BEGIN:VCALENDAR
VERSION:2.0
PRODID:-//ChamberMaster//Event Calendar 2.0//EN
METHOD:PUBLISH
X-PUBLISHED-TTL:P3D
REFRESH-INTERVAL:P3D
CALSCALE:GREGORIAN
BEGIN:VEVENT
DTSTART:20211215T134500Z
DTEND:20211215T153000Z
X-MICROSOFT-CDO-ALLDAYEVENT:FALSE
SUMMARY:Chamber Networking Breakfast - Polish Center of Wisconsin
DESCRIPTION:Chamber Breakfasts are an excellent opportunity to network with Chamber members.\n\n \n\nPlease note\, that the breakfast will be on December 15th\, the third Wednesday of the month. \n\nThe registration will close on Friday\, December 10th at 11:00 AM.\n\n \n\nEach attendee can give a 30-second introduction sharing their company\, and their services. We encourage attendees to bring brochures\, door prizes\, and promotional material to distribute.\n\n \n\nSchedule of Events: \n\n7:45 AM - 8:00 AM Registration and Networking\n\n8:00 AM - 8:15 AM Speaker - Doug Milinovich\, First Weber Realtors\n\n8:15 AM  - 8:20 AM Q & A for speaker\n\n8:20 AM - 8:30 AM Introduction of Board Members & Announcements\n\n8:30 AM - 8:50 AM 30-Second Introductions\n\n8:50 AM - 9:00 AM Shout out's\n\n9:00 AM - 9:30 AM Networking\n\n \n\nDo you want to be nominated as a South Suburban Chamber Member Spotlight or nominate any Chamber member?\n\nFill in the form here !\n\n\n\nMenu:\n\n\n	Scrambled eggs\n	Polish Sausage\n	Danish and fruits\n	Coffee and juice \n\n\nIf you would like to be a speaker at the breakfast\, please fill in the form here .\n\n \n\n\nDue to COVID19\, we will not be handling payment on the day of\, we kindly request you pre-register. If you have been exposed or are showing symptoms of COVID19 we request you avoid attending our event.  The South Suburban Chamber absorbs no virus liability by you choosing to attend.
X-ALT-DESC;FMTTYPE=text/html:<div><span style="font-size:14px\;"><span style="font-family:arial\;"><strong>Chamber Breakfasts are an excellent opportunity to&nbsp\;network with Chamber members.</strong></span></span><br />\n&nbsp\;</div>\n\n<div><span style="font-size:14px\;"><strong>Please note\, that the breakfast will be on December&nbsp\;15th\, the third Wednesday of the month.&nbsp\;</strong><br />\n<span style="background-color:#FFFF00\;">The registration will close on Friday\, December 10th at 11:00 AM.</span></span><br />\n&nbsp\;</div>\n\n<div><span style="font-size:14px\;"><span style="font-family:arial\;">Each attendee can give a <strong>30-second&nbsp\;introduction</strong> sharing&nbsp\;their company\, and their services.&nbsp\;We&nbsp\;encourage attendees&nbsp\;to <strong>bring brochures</strong>\, door prizes\, and promotional material to distribute.</span></span></div>\n\n<p>&nbsp\;</p>\n\n<div><span style="font-size:14px\;"><span style="font-family:arial\;"><strong>Schedule of Events:&nbsp\;</strong></span></span></div>\n\n<div><span style="font-size:14px\;"><span style="font-family:arial\;"><span style="color:#333333\;">7:45 AM - 8:00 AM Registration and Networking<br />\n8:00 AM - 8:15 AM Speaker - Doug Milinovich\, First Weber Realtors<br />\n8:15 AM &nbsp\;- 8:20 AM Q &amp\; A for speaker<br />\n8:20 AM -&nbsp\;8:30 AM Introduction of Board Members &amp\; Announcements<br />\n8:30 AM - 8:50 AM 30-Second Introductions<br />\n8:50 AM - 9:00 AM&nbsp\;Shout out&#39\;s<br />\n9:00 AM - 9:30 AM Networking</span></span></span><br />\n&nbsp\;</div>\n\n<div><span style="font-size:14px\;"><span style="color: rgb(0\, 0\, 0)\;"><span style="font-family: arial\;">Do you want to be&nbsp\;nominated as a<strong>&nbsp\;South Suburban Chamber Member Spotlight&nbsp\;</strong>or nominate any&nbsp\;Chamber member?</span><br style="font-family: arial\; font-size: 12px\;" />\n<span style="font-family: arial\;">Fill in the form&nbsp\;</span></span><a href="https://business.southsuburbanchamber.com/form/view/23637" style="font-family: arial\; font-size: 12px\;"><span style="color: rgb(0\, 0\, 0)\;"><span style="background-color:#FFFF00\;">here</span></span></a><span style="color: rgb(0\, 0\, 0)\;"><span style="font-family: arial\;">&nbsp\;!<br />\n<br />\nMenu:</span></span></span>\n\n<ul>\n	<li style="margin-left:0in\;"><span style="font-size:14px\;">Scrambled eggs</span></li>\n	<li style="margin-left:0in\;"><span style="font-size:14px\;">Polish Sausage</span></li>\n	<li style="margin-left:0in\;"><span style="font-size:14px\;">Danish and fruits</span></li>\n	<li style="margin-left:0in\;"><span style="font-size:14px\;">Coffee and juice<span style="color:windowtext\;"> </span></span></li>\n</ul>\n\n<div style="margin-left:0in\;"><span style="font-size:14px\;">If you would like to be a<strong> speaker at the breakfast</strong>\, please fill in the form <a href="https://business.southsuburbanchamber.com/form/view/24404">here</a>&nbsp\;.</span><br />\n&nbsp\;</div>\n</div>\n\n<div><strong><span style="color:#FF0000\;">Due to COVID19\, we will not be handling payment on the day of\, we kindly request you pre-register. If you have been exposed or are showing symptoms of COVID19 we request you avoid attending our event.&nbsp\; The South Suburban Chamber absorbs no virus liability by you choosing to attend.</span></strong><br />\n<span style="font-size:12px\;"><span style="font-family:arial\;"><strong><span _fck_bookmark="1" style="display: none\;">&nbsp\;</span></strong></span></span></div>\n
LOCATION:Polish Center of Wisconsin 6941 S 68th St\, Franklin\, WI 53132
UID:e.196.2470
SEQUENCE:3
DTSTAMP:20260421T185311Z
URL:http://business.southsuburbanchamber.com/events/details/chamber-networking-breakfast-polish-center-of-wisconsin-2470
END:VEVENT

END:VCALENDAR
