BEGIN:VCALENDAR
VERSION:2.0
PRODID:-//ChamberMaster//Event Calendar 2.0//EN
METHOD:PUBLISH
X-PUBLISHED-TTL:P3D
REFRESH-INTERVAL:P3D
CALSCALE:GREGORIAN
BEGIN:VEVENT
DTSTART:20250626T220000Z
DTEND:20250627T000000Z
X-MICROSOFT-CDO-ALLDAYEVENT:FALSE
SUMMARY:Happy Hour - Vault Cocktail Lounge Downtown Milwaukee
DESCRIPTION:Join the South Suburban Chamber for their Happy Hour at Vault Cocktail Lounge in the River Center Market Downtown! \n\nThere will be a cash bar\, networking\, apps and an outdoor patio view!\n\nBring your friends and colleagues\, and enjoy some drinks and good company!\n\nVault is part of the of 41Fork Hospitality portfolio.
X-ALT-DESC;FMTTYPE=text/html:<span style="font-size:14px\;"><span style="font-family:arial\;">Join the South Suburban Chamber for their Happy Hour at Vault Cocktail Lounge in the River Center Market Downtown!&nbsp\;<br />\nThere will be a cash bar\, networking\, apps and an outdoor patio view!<br />\nBring your friends and colleagues\, and enjoy some drinks and good company!<br />\nVault is part of the of 41Fork Hospitality portfolio.</span></span><br />\n&nbsp\;
LOCATION:Vault Cocktail Lounge & Raw Bar in the River Center Market 111 E Kilbourn Ave Suite 210\, Milwaukee\, WI 53202 Directions: Entering off of Water Street: Go straight through the entrance doors of the River Center building\, continue straight to the rotunda\, take a slight right past the security booth and head up the escalator\, where Vault awaits. If the elevator is needed\, take a left when you get to the rotunda and head up to the second floor. Take a left down the hallway and Vault is straight ahead! Entering off of Kilbourn Street: Go straight through the entrance doors of the River Center building\, continue straight to the rotunda\, take a hard right at the security booth and head up the escalator\, where Vault awaits. If the elevator is needed\, continue straight when you get to the rotunda and head up to the second floor. Take a left down the hallway and Vault is straight ahead!
UID:e.196.2676
SEQUENCE:3
DTSTAMP:20260421T083725Z
URL:http://business.southsuburbanchamber.com/events/details/happy-hour-vault-cocktail-lounge-downtown-milwaukee-2676
END:VEVENT

END:VCALENDAR
