BEGIN:VCALENDAR
VERSION:2.0
PRODID:-//ChamberMaster//Event Calendar 2.0//EN
METHOD:PUBLISH
X-PUBLISHED-TTL:P3D
REFRESH-INTERVAL:P3D
CALSCALE:GREGORIAN
BEGIN:VEVENT
DTSTART:20230321T123000Z
DTEND:20230321T143000Z
X-MICROSOFT-CDO-ALLDAYEVENT:FALSE
SUMMARY:Introducing FlexRide - Informational Forum
DESCRIPTION:Join us as we share details about FlexRide\, as the service expands to serve businesses in Franklin and Oak Creek\, starting in 2023!\n\nFree Registration: https://www.eventbrite.com/e/565847343637\n\nFlexRide Milwaukee is an on-demand transportation service that connects workers in Milwaukee with jobs in select employment centers. The pilot launched in 2022\, and an expansion beginning in spring 2023 will make the service available to new employers in Franklin and Oak Creek. As you consider innovative ways to support hiring and retention\, we invite you to attend this informational event to learn about expansion plans and discover how your business and community can benefit.\n\n	7 :30 a.m. Networking and continental breakfast\n	8  a.m. Program starts\n	9 :30 a.m. Program concludes
X-ALT-DESC;FMTTYPE=text/html:<strong><span style="background:white\;"><span style="color:#39364F\;"><span style="font-family:century gothic\,sans-serif\;"><span style="font-size:14.0pt\;">Join us as we share details about FlexRide\, as the service expands to serve businesses in Franklin and Oak Creek\, starting in 2023!</span></span></span></span></strong><br />\n<strong><span style="background:white\;"><span style="color:#39364F\;"><span style="font-family:century gothic\,sans-serif\;"><span style="font-size:14.0pt\;">Free Registration: </span></span></span></span></strong><a href="https://www.eventbrite.com/e/565847343637"><span style="color:blue\;">https://www.eventbrite.com/e/565847343637</span></a><br />\n<span style="color:#6F7287\;"><span style="font-family:century gothic\,sans-serif\;"><span style="font-size:14.0pt\;">FlexRide Milwaukee is an on-demand transportation service that connects workers in Milwaukee with jobs in select employment centers. The pilot launched in 2022\, and an expansion beginning in spring 2023 will make the service available to new employers in Franklin and Oak Creek. As you consider innovative ways to support hiring and retention\, we invite you to attend this informational event to learn about expansion plans and discover how your business and community can benefit.</span></span></span>\n<ul>\n	<li style="color:#6F7287\;background:white\;"><span style="font-family:century gothic\,sans-serif\;"><span style="font-size:14.0pt\;">7</span></span>&#65279\;<span style="font-family:century gothic\,sans-serif\;"><span style="font-size:14.0pt\;">:30 a.m. Networking and continental breakfast</span></span></li>\n	<li style="color:#6F7287\;background:white\;"><span style="font-family:century gothic\,sans-serif\;"><span style="font-size:14.0pt\;">8</span></span>&#65279\;<span style="font-family:century gothic\,sans-serif\;"><span style="font-size:14.0pt\;"> a.m. Program starts</span></span></li>\n	<li style="color:#6F7287\;background:white\;"><span style="font-family:century gothic\,sans-serif\;"><span style="font-size:14.0pt\;">9</span></span>&#65279\;<span style="font-family:century gothic\,sans-serif\;"><span style="font-size:14.0pt\;">:30 a.m. Program concludes</span></span></li>\n</ul>\n
LOCATION:Oak Creek City Hall 8040 S. 6th Street Oak Creek\, WI 53154
UID:e.196.2560
SEQUENCE:3
DTSTAMP:20260425T005404Z
URL:http://business.southsuburbanchamber.com/events/details/introducing-flexride-informational-forum-2560
END:VEVENT

END:VCALENDAR
