BEGIN:VCALENDAR
VERSION:2.0
PRODID:-//ChamberMaster//Event Calendar 2.0//EN
METHOD:PUBLISH
X-PUBLISHED-TTL:P3D
REFRESH-INTERVAL:P3D
CALSCALE:GREGORIAN
BEGIN:VEVENT
DTSTART:20250220T223000Z
DTEND:20250221T023000Z
X-MICROSOFT-CDO-ALLDAYEVENT:FALSE
SUMMARY:Annual Awards Celebrating 2024
DESCRIPTION:You are invited to join the South Suburban Chamber of Commerce Board of Directors for our Annual Awards Celebration!  We celebrate you\, our members\, and our achievements throughout the year!\n\n\n\nJoin us to network with other Chamber members during the reception and celebrate our award finalists and winners! \n\n\n\nYour ticket includes attendance and dinner.  There will be a cash bar.  \n\nAwards Celebration Attire: Cocktail (Suits & Party Dresses)\n\n\n\nAwards Categories:\n\nSmall Business of the Year\n\nLarge Business of the Year\n\nNew Member of the Year\n\nCommunity Impact of the Year\n\nVolunteer of the Year\n\nEducator of the Year
X-ALT-DESC;FMTTYPE=text/html:<span style="font-size:14px\;"><span style="color:#333333\;">You are invited to join the South Suburban Chamber of Commerce Board of Directors for our Annual Awards&nbsp\;Celebration! &nbsp\;We celebrate you\, our members\, and our achievements throughout the year!</span><br />\n<br />\n<span style="color:#333333\;">Join us to network with other Chamber members during the reception and celebrate our award finalists and winners!&nbsp\;</span><br />\n<br />\nYour ticket includes attendance and dinner. &nbsp\;There will be a cash bar. &nbsp\;<br />\n<strong><span style="color:#333333\;">Awards Celebration Attire:</span></strong><span style="color:#333333\;">&nbsp\;Cocktail (Suits &amp\; Party Dresses)</span></span><br />\n<br />\n<span style="font-size:14px\;"><strong>Awards Categories:</strong></span><br />\n<span style="font-size:14px\;"><span style="color:#333333\;">Small Business of the Year<br />\nLarge Business of the Year<br />\nNew Member of the Year<br />\nCommunity Impact of the Year<br />\nVolunteer of the Year<br />\nEducator of the Year</span></span><br />\n&nbsp\;\n<div style="text-align: center\;"><br />\n<br />\n<br />\n&nbsp\;</div>\n\n<div style="text-align: center\;"><br />\n<br />\n&nbsp\;</div>\n
LOCATION:Bucyrus Club 1919 12th Ave South Milwaukee
UID:e.196.2652
SEQUENCE:3
DTSTAMP:20260423T165515Z
URL:https://business.southsuburbanchamber.com/events/details/annual-awards-celebrating-2024-2652
END:VEVENT

END:VCALENDAR
