BEGIN:VCALENDAR
VERSION:2.0
PRODID:-//ChamberMaster//Event Calendar 2.0//EN
METHOD:PUBLISH
X-PUBLISHED-TTL:P3D
REFRESH-INTERVAL:P3D
CALSCALE:GREGORIAN
BEGIN:VEVENT
DTSTART:20260514T220000Z
DTEND:20260515T000000Z
X-MICROSOFT-CDO-ALLDAYEVENT:FALSE
SUMMARY:D'Vine Grand Opening & Ribbon Cutting!
DESCRIPTION:Join us in celebrating the grand opening of D'Vine Coffee & Wine at Ballpark Commons!
X-ALT-DESC;FMTTYPE=text/html:Join us in celebrating the grand opening of D&#39\;Vine Coffee &amp\; Wine at Ballpark Commons!
LOCATION:7044 Ballpark Dr Franklin
UID:e.196.2763
SEQUENCE:3
DTSTAMP:20260422T181306Z
URL:https://business.southsuburbanchamber.com/events/details/d-vine-grand-opening-ribbon-cutting-2763
END:VEVENT

END:VCALENDAR
