BEGIN:VCALENDAR
VERSION:2.0
PRODID:-//ChamberMaster//Event Calendar 2.0//EN
METHOD:PUBLISH
X-PUBLISHED-TTL:P3D
REFRESH-INTERVAL:P3D
CALSCALE:GREGORIAN
BEGIN:VEVENT
DTSTART:20240919T220000Z
DTEND:20240920T000000Z
X-MICROSOFT-CDO-ALLDAYEVENT:FALSE
SUMMARY:Summerfest Behind the Scenes Tour & Happy Hour at Camp Bar!!
DESCRIPTION:Join us for a Special Behind the Scenes Tour of Summerfest as a kick off to their 2025 Ticket Package Deals!\n\nTour of the Summerfest Grounds at 5pm with Happy Hour following at Camp Bar nearby afterwards!\n\n*DUE TO THE UNIQUE NATURE OF THIS FREE EVENT\, WE KINDLY ASK YOU TO PRE-REGISTER*
X-ALT-DESC;FMTTYPE=text/html:Join us for a Special Behind the Scenes Tour of Summerfest as a kick off to their 2025 Ticket Package Deals!<br />\nTour of the Summerfest Grounds at 5pm with Happy Hour following at Camp Bar nearby afterwards!<br />\n*DUE TO THE UNIQUE NATURE OF THIS FREE EVENT\, WE KINDLY ASK YOU TO PRE-REGISTER*
LOCATION:We will be meeting at Camp Bar to start at 5pm and be shuttled from there over to the Summerfest Amphitheater. Guests can park in our vendor Lot A by Gate 6. They would then have to walk through the Italian Community Center parking lot to get to Camp Bar. First come\, first served parking. OR Guests can find street parking near Camp Bar. Camp Bar 525 E Menomonee St Milwaukee Summerfest Grounds 200 N Harbor Dr Milwaukee
UID:e.196.2629
SEQUENCE:3
DTSTAMP:20260426T000019Z
URL:https://business.southsuburbanchamber.com/events/details/summerfest-behind-the-scenes-tour-happy-hour-at-camp-bar-2629
END:VEVENT

END:VCALENDAR
